BEGIN:VCALENDAR
VERSION:2.0
PRODID:icalendar-ruby
CALSCALE:GREGORIAN
METHOD:PUBLISH
BEGIN:VEVENT
DTSTAMP:20260420T182133Z
UID:91-637077@parksidelutheran.org
DTSTART:20260825T203000Z
DTEND:20260825T213000Z
CLASS:PUBLIC
CREATED:20260414T123032
DESCRIPTION:Join our group of volunteers as we make dozens of burritos in t
 he church kitchen.  \nWe also needother volunteers to deliver to the hung
 ry and homeless in downtown Buffalo. \nContact Alison Smith to sign up al
 isonmsmith07@gmail.com.
LAST-MODIFIED:20260414T123032
LOCATION:Parkside Lutheran Church
SUMMARY:Buffalo Burrito Project
URL;VALUE=URI:https://www.parksidelutheran.org/events/buffalo-burrito-proje
 ct/2026-08-25
ATTACH;FILENAME=Burrito project square.jpg;FMTTYPE=image/jpeg:https://dq5pw
 pg1q8ru0.cloudfront.net/2026/04/14/16/28/08/edb23ac9-4bda-46bd-941a-a1f586
 26f636/Burrito%20project%20square.jpg
END:VEVENT
END:VCALENDAR
